BEGIN:VCALENDAR
VERSION:2.0
PRODID:-//217.160.0.197//NONSGML kigkonsult.se iCalcreator 2.20//
CALSCALE:GREGORIAN
METHOD:PUBLISH
X-WR-TIMEZONE:Europe/Berlin
BEGIN:VEVENT
UID:event238@Arbeitskreis Naturschutz in der SG Tostedt e.V.
DTSTAMP:20260420T162355Z
CATEGORIES:Sitzung
DESCRIPTION:Vorstandssitzung\nKategorie: Sitzung\nICS-Link: https://www.akn
 aturschutz.de/index.php?option=com_jem&view=event&id=238:vorstandssitzung
 \n
DTSTART;TZID=Europe/Berlin:20260504T190000
DTEND;TZID=Europe/Berlin:20260504T190000
LOCATION:AKN Naturwerkstatt\,Unter den Linden 18\,Tostedt
SUMMARY:Vorstandssitzung
URL:https://www.aknaturschutz.de/index.php?option=com_jem&view=event&id=238
 :vorstandssitzung
END:VEVENT
BEGIN:VEVENT
UID:event246@Arbeitskreis Naturschutz in der SG Tostedt e.V.
DTSTAMP:20260420T162355Z
CATEGORIES:Veranstaltung
DESCRIPTION:AKN Klönschnack\nKategorie: Veranstaltung\nICS-Link: https://ww
 w.aknaturschutz.de/index.php?option=com_jem&view=event&id=246:akn-kloensch
 nack\n
DTSTART;TZID=Europe/Berlin:20260507T150000
DTEND;TZID=Europe/Berlin:20260507T150000
LOCATION:AKN Naturwerkstatt\,Unter den Linden 18\,Tostedt
SUMMARY:AKN Klönschnack
URL:https://www.aknaturschutz.de/index.php?option=com_jem&view=event&id=246
 :akn-kloenschnack
END:VEVENT
BEGIN:VEVENT
UID:event249@Arbeitskreis Naturschutz in der SG Tostedt e.V.
DTSTAMP:20260420T162355Z
CATEGORIES:Veranstaltung
DESCRIPTION:Mitgliederversammlung\nKategorie: Veranstaltung\nICS-Link: http
 s://www.aknaturschutz.de/index.php?option=com_jem&view=event&id=249:mitgli
 ederversammlung\n
DTSTART;TZID=Europe/Berlin:20260529T193000
DTEND;TZID=Europe/Berlin:20260529T193000
LOCATION:Gasthaus Burmester Heidenau\,Heidenau
SUMMARY:Mitgliederversammlung
URL:https://www.aknaturschutz.de/index.php?option=com_jem&view=event&id=249
 :mitgliederversammlung
END:VEVENT
BEGIN:VEVENT
UID:event239@Arbeitskreis Naturschutz in der SG Tostedt e.V.
DTSTAMP:20260420T162355Z
CATEGORIES:Sitzung
DESCRIPTION:Vorstandssitzung\nKategorie: Sitzung\nICS-Link: https://www.akn
 aturschutz.de/index.php?option=com_jem&view=event&id=239:vorstandssitzung
 \n
DTSTART;TZID=Europe/Berlin:20260601T190000
DTEND;TZID=Europe/Berlin:20260601T190000
LOCATION:AKN Naturwerkstatt\,Unter den Linden 18\,Tostedt
SUMMARY:Vorstandssitzung
URL:https://www.aknaturschutz.de/index.php?option=com_jem&view=event&id=239
 :vorstandssitzung
END:VEVENT
BEGIN:VEVENT
UID:event247@Arbeitskreis Naturschutz in der SG Tostedt e.V.
DTSTAMP:20260420T162355Z
CATEGORIES:Veranstaltung
DESCRIPTION:AKN Klönschnack\nKategorie: Veranstaltung\nICS-Link: https://ww
 w.aknaturschutz.de/index.php?option=com_jem&view=event&id=247:akn-kloensch
 nack\n
DTSTART;TZID=Europe/Berlin:20260606T150000
DTEND;TZID=Europe/Berlin:20260606T150000
LOCATION:AKN Naturwerkstatt\,Unter den Linden 18\,Tostedt
SUMMARY:AKN Klönschnack
URL:https://www.aknaturschutz.de/index.php?option=com_jem&view=event&id=247
 :akn-kloenschnack
END:VEVENT
BEGIN:VEVENT
UID:event250@Arbeitskreis Naturschutz in der SG Tostedt e.V.
DTSTAMP:20260420T162355Z
CATEGORIES:Exkursion
DESCRIPTION:Exkursion: Das Ostequellgebiet und die Dittmerteiche\nKategorie
 : Exkursion\nICS-Link: https://www.aknaturschutz.de/index.php?option=com_j
 em&view=event&id=250:exkursion-das-ostequellgebiet-und-die-dittmerteiche\n
DTSTART;TZID=Europe/Berlin:20260607T093000
DTEND;TZID=Europe/Berlin:20260607T093000
LOCATION:Parkplatz Einkaufscenter Bade
SUMMARY:Exkursion: Das Ostequellgebiet und die Dittmerteiche
URL:https://www.aknaturschutz.de/index.php?option=com_jem&view=event&id=250
 :exkursion-das-ostequellgebiet-und-die-dittmerteiche
END:VEVENT
BEGIN:VEVENT
UID:event240@Arbeitskreis Naturschutz in der SG Tostedt e.V.
DTSTAMP:20260420T162355Z
CATEGORIES:Sitzung
DESCRIPTION:Vorstandssitzung\nKategorie: Sitzung\nICS-Link: https://www.akn
 aturschutz.de/index.php?option=com_jem&view=event&id=240:vorstandssitzung
 \n
DTSTART;TZID=Europe/Berlin:20260629T190000
DTEND;TZID=Europe/Berlin:20260629T190000
LOCATION:AKN Naturwerkstatt\,Unter den Linden 18\,Tostedt
SUMMARY:Vorstandssitzung
URL:https://www.aknaturschutz.de/index.php?option=com_jem&view=event&id=240
 :vorstandssitzung
END:VEVENT
BEGIN:VEVENT
UID:event251@Arbeitskreis Naturschutz in der SG Tostedt e.V.
DTSTAMP:20260420T162355Z
CATEGORIES:Exkursion
DESCRIPTION:Exkursion: Dohrener Mühlenbach und Dohrener Heide\nKategorie: E
 xkursion\nICS-Link: https://www.aknaturschutz.de/index.php?option=com_jem&
 view=event&id=251:exkursion-dohrener-muehlenbach-und-dohrener-heide\n
DTSTART;TZID=Europe/Berlin:20260823T093000
DTEND;TZID=Europe/Berlin:20260823T093000
LOCATION:Parkplatz Einkaufscenter Bade
SUMMARY:Exkursion: Dohrener Mühlenbach und Dohrener Heide
URL:https://www.aknaturschutz.de/index.php?option=com_jem&view=event&id=251
 :exkursion-dohrener-muehlenbach-und-dohrener-heide
END:VEVENT
END:VCALENDAR
