BEGIN:VCALENDAR
VERSION:2.0
PRODID:-//217.160.0.197//NONSGML kigkonsult.se iCalcreator 2.20//
CALSCALE:GREGORIAN
METHOD:PUBLISH
X-WR-TIMEZONE:Europe/Berlin
BEGIN:VEVENT
UID:event229@Arbeitskreis Naturschutz in der SG Tostedt e.V.
DTSTAMP:20260420T192335Z
CATEGORIES:Begehung
DESCRIPTION:Flächenbegehung\nKategorie: Begehung\nICS-Link: https://www.akn
 aturschutz.de/index.php?option=com_jem&view=event&id=229:flaechenbegehung
 \n
DTSTART;TZID=Europe/Berlin:20250731T090000
DTEND;TZID=Europe/Berlin:20250731T090000
LOCATION:AKN Naturwerkstatt\,Unter den Linden 18\,Tostedt
SUMMARY:Flächenbegehung
URL:https://www.aknaturschutz.de/index.php?option=com_jem&view=event&id=229
 :flaechenbegehung
END:VEVENT
END:VCALENDAR
