BEGIN:VCALENDAR
VERSION:2.0
PRODID:-//217.160.0.197//NONSGML kigkonsult.se iCalcreator 2.20//
CALSCALE:GREGORIAN
METHOD:PUBLISH
X-WR-TIMEZONE:Europe/Berlin
BEGIN:VEVENT
UID:event226@Arbeitskreis Naturschutz in der SG Tostedt e.V.
DTSTAMP:20260420T192726Z
CATEGORIES:Veranstaltung
DESCRIPTION:Stauden- und Saatgutbörse\nKategorie: Veranstaltung\nICS-Link: 
 https://www.aknaturschutz.de/index.php?option=com_jem&view=event&id=226:st
 auden-und-saatgutboerse\n
DTSTART;TZID=Europe/Berlin:20250406T140000
DTEND;TZID=Europe/Berlin:20250406T170000
LOCATION:AKN Naturwerkstatt\,Unter den Linden 18\,Tostedt
SUMMARY:Stauden- und Saatgutbörse
URL:https://www.aknaturschutz.de/index.php?option=com_jem&view=event&id=226
 :stauden-und-saatgutboerse
END:VEVENT
END:VCALENDAR
