BEGIN:VCALENDAR
VERSION:2.0
PRODID:-//217.160.0.197//NONSGML kigkonsult.se iCalcreator 2.20//
CALSCALE:GREGORIAN
METHOD:PUBLISH
X-WR-TIMEZONE:Europe/Berlin
BEGIN:VEVENT
UID:event219@Arbeitskreis Naturschutz in der SG Tostedt e.V.
DTSTAMP:20260420T194759Z
CATEGORIES:Exkursion
DESCRIPTION:Rund um das Todtschlatt\nKategorie: Exkursion\nICS-Link: https:
 //www.aknaturschutz.de/index.php?option=com_jem&view=event&id=219:rund-um-
 das-todtschlatt\n
DTSTART;TZID=Europe/Berlin:20250824T093000
DTEND;TZID=Europe/Berlin:20250824T093000
LOCATION:Parkplatz Einkaufscenter Bade
SUMMARY:Rund um das Todtschlatt
URL:https://www.aknaturschutz.de/index.php?option=com_jem&view=event&id=219
 :rund-um-das-todtschlatt
END:VEVENT
END:VCALENDAR
