BEGIN:VCALENDAR
VERSION:2.0
PRODID:-//217.160.0.197//NONSGML kigkonsult.se iCalcreator 2.20//
CALSCALE:GREGORIAN
METHOD:PUBLISH
X-WR-TIMEZONE:Europe/Berlin
BEGIN:VEVENT
UID:event195@Arbeitskreis Naturschutz in der SG Tostedt e.V.
DTSTAMP:20260420T194417Z
CATEGORIES:Exkursion
DESCRIPTION:Exkursion\nKategorie: Exkursion\nICS-Link: https://www.aknaturs
 chutz.de/index.php?option=com_jem&view=event&id=195:exkursion\n
DTSTART;TZID=Europe/Berlin:20230507T093000
DTEND;TZID=Europe/Berlin:20230507T093000
LOCATION:Parkplatz Einkaufscenter Bade
SUMMARY:Exkursion
URL:https://www.aknaturschutz.de/index.php?option=com_jem&view=event&id=195
 :exkursion
END:VEVENT
END:VCALENDAR
