BEGIN:VCALENDAR
VERSION:2.0
PRODID:-//217.160.0.197//NONSGML kigkonsult.se iCalcreator 2.20//
CALSCALE:GREGORIAN
METHOD:PUBLISH
X-WR-TIMEZONE:Europe/Berlin
BEGIN:VEVENT
UID:event178@Arbeitskreis Naturschutz in der SG Tostedt e.V.
DTSTAMP:20260420T194605Z
CATEGORIES:Exkursion
DESCRIPTION:AKN Exkursion Ottermoor\nKategorie: Exkursion\nICS-Link: https:
 //www.aknaturschutz.de/index.php?option=com_jem&view=event&id=178:akn-exku
 rsion-ottermoor\n
DTSTART;TZID=Europe/Berlin:20220710T093000
DTEND;TZID=Europe/Berlin:20220710T093000
LOCATION:Parkplatz Einkaufscenter Bade
SUMMARY:AKN Exkursion Ottermoor
URL:https://www.aknaturschutz.de/index.php?option=com_jem&view=event&id=178
 :akn-exkursion-ottermoor
END:VEVENT
END:VCALENDAR
